Package: sparrow Version: 1.10.1 Command: /home/biocbuild/bbs-3.19-bioc/R/bin/R CMD build --keep-empty-dirs --no-resave-data sparrow StartedAt: 2024-10-16 20:56:14 -0400 (Wed, 16 Oct 2024) EndedAt: 2024-10-16 20:59:15 -0400 (Wed, 16 Oct 2024) EllapsedTime: 181.3 seconds RetCode: 0 Status: OK PackageFile: sparrow_1.10.1.tar.gz PackageFileSize: 4.05 MiB