Package: sparrow Version: 1.10.1 Command: /home/biocbuild/bbs-3.19-bioc/R/bin/R CMD INSTALL sparrow StartedAt: 2024-10-16 16:21:12 -0400 (Wed, 16 Oct 2024) EndedAt: 2024-10-16 16:21:41 -0400 (Wed, 16 Oct 2024) EllapsedTime: 29.5 seconds RetCode: 0 Status: OK