Package: spatialHeatmap Version: 2.10.2 Command: /Library/Frameworks/R.framework/Resources/bin/R CMD build --keep-empty-dirs --no-resave-data spatialHeatmap StartedAt: 2024-10-17 09:49:49 -0400 (Thu, 17 Oct 2024) EndedAt: 2024-10-17 09:56:44 -0400 (Thu, 17 Oct 2024) EllapsedTime: 415.0 seconds RetCode: 0 Status: OK PackageFile: spatialHeatmap_2.10.2.tar.gz PackageFileSize: 35.29 MiB