Package: spatialHeatmap Version: 2.10.2 Command: rm -rf spatialHeatmap.buildbin-libdir && mkdir spatialHeatmap.buildbin-libdir && /Users/biocbuild/BBS/utils/build-universal.sh spatialHeatmap_2.10.2.tar.gz /Library/Frameworks/R.framework/Resources/bin/R spatialHeatmap.buildbin-libdir StartedAt: 2024-10-17 17:16:02 -0400 (Thu, 17 Oct 2024) EndedAt: 2024-10-17 17:18:09 -0400 (Thu, 17 Oct 2024) EllapsedTime: 126.9 seconds RetCode: 0 Status: OK PackageFile: spatialHeatmap_2.10.2.tgz PackageFileSize: 34.85 MiB