Package: spatialHeatmap Version: 2.10.2 Command: /Library/Frameworks/R.framework/Resources/bin/R CMD check --install=check:spatialHeatmap.install-out.txt --library=/Library/Frameworks/R.framework/Resources/library --no-vignettes --timings spatialHeatmap_2.10.2.tar.gz StartedAt: 2024-10-17 13:35:01 -0400 (Thu, 17 Oct 2024) EndedAt: 2024-10-17 13:49:39 -0400 (Thu, 17 Oct 2024) EllapsedTime: 878.2 seconds RetCode: 0 Status: OK CheckDir: spatialHeatmap.Rcheck Warnings: 0