Package: spatialHeatmap Version: 2.10.2 Command: /home/biocbuild/bbs-3.19-bioc/R/bin/R CMD build --keep-empty-dirs --no-resave-data spatialHeatmap StartedAt: 2024-10-16 20:57:38 -0400 (Wed, 16 Oct 2024) EndedAt: 2024-10-16 21:02:05 -0400 (Wed, 16 Oct 2024) EllapsedTime: 266.7 seconds RetCode: 0 Status: OK PackageFile: spatialHeatmap_2.10.2.tar.gz PackageFileSize: 33.16 MiB