Package: specL Version: 1.38.0 Command: /Library/Frameworks/R.framework/Resources/bin/R CMD build --keep-empty-dirs --no-resave-data specL StartedAt: 2024-10-16 23:37:08 -0400 (Wed, 16 Oct 2024) EndedAt: 2024-10-16 23:38:00 -0400 (Wed, 16 Oct 2024) EllapsedTime: 51.7 seconds RetCode: 0 Status: OK PackageFile: specL_1.38.0.tar.gz PackageFileSize: 2.057 MiB