Package: specL Version: 1.38.0 Command: /Library/Frameworks/R.framework/Resources/bin/R CMD check --install=check:specL.install-out.txt --library=/Library/Frameworks/R.framework/Resources/library --no-vignettes --timings specL_1.38.0.tar.gz StartedAt: 2024-10-17 13:36:38 -0400 (Thu, 17 Oct 2024) EndedAt: 2024-10-17 13:38:27 -0400 (Thu, 17 Oct 2024) EllapsedTime: 109.6 seconds RetCode: 0 Status: OK CheckDir: specL.Rcheck Warnings: 0