Package: speckle Version: 1.4.0 Command: /Library/Frameworks/R.framework/Resources/bin/R CMD build --keep-empty-dirs --no-resave-data speckle StartedAt: 2024-10-17 09:51:20 -0400 (Thu, 17 Oct 2024) EndedAt: 2024-10-17 09:53:09 -0400 (Thu, 17 Oct 2024) EllapsedTime: 108.9 seconds RetCode: 0 Status: OK PackageFile: speckle_1.4.0.tar.gz PackageFileSize: 1.476 MiB