Package: speckle Version: 1.4.0 Command: /Library/Frameworks/R.framework/Resources/bin/R CMD check --install=check:speckle.install-out.txt --library=/Library/Frameworks/R.framework/Resources/library --no-vignettes --timings speckle_1.4.0.tar.gz StartedAt: 2024-06-09 23:14:29 -0400 (Sun, 09 Jun 2024) EndedAt: 2024-06-09 23:19:40 -0400 (Sun, 09 Jun 2024) EllapsedTime: 311.2 seconds RetCode: 0 Status: OK CheckDir: speckle.Rcheck Warnings: 0