Package: speckle Version: 1.4.0 Command: rm -rf speckle.buildbin-libdir && mkdir speckle.buildbin-libdir && /Users/biocbuild/BBS/utils/build-universal.sh speckle_1.4.0.tar.gz /Library/Frameworks/R.framework/Resources/bin/R speckle.buildbin-libdir StartedAt: 2024-10-17 17:16:18 -0400 (Thu, 17 Oct 2024) EndedAt: 2024-10-17 17:17:51 -0400 (Thu, 17 Oct 2024) EllapsedTime: 92.7 seconds RetCode: 0 Status: OK PackageFile: speckle_1.4.0.tgz PackageFileSize: 1.412 MiB