Package: speckle Version: 1.4.0 Command: /Library/Frameworks/R.framework/Resources/bin/R CMD build --keep-empty-dirs --no-resave-data speckle StartedAt: 2024-10-16 23:36:06 -0400 (Wed, 16 Oct 2024) EndedAt: 2024-10-16 23:39:18 -0400 (Wed, 16 Oct 2024) EllapsedTime: 191.9 seconds RetCode: 0 Status: OK PackageFile: speckle_1.4.0.tar.gz PackageFileSize: 1.394 MiB