Package: speckle Version: 1.4.0 Command: /Library/Frameworks/R.framework/Resources/bin/R CMD INSTALL speckle StartedAt: 2024-10-16 16:19:59 -0400 (Wed, 16 Oct 2024) EndedAt: 2024-10-16 16:21:24 -0400 (Wed, 16 Oct 2024) EllapsedTime: 85.6 seconds RetCode: 0 Status: OK