Package: speckle Version: 1.4.0 Command: /home/biocbuild/bbs-3.19-bioc/R/bin/R CMD check --install=check:speckle.install-out.txt --library=/home/biocbuild/bbs-3.19-bioc/R/site-library --timings speckle_1.4.0.tar.gz StartedAt: 2024-10-17 05:24:32 -0400 (Thu, 17 Oct 2024) EndedAt: 2024-10-17 05:29:19 -0400 (Thu, 17 Oct 2024) EllapsedTime: 286.6 seconds RetCode: 0 Status: OK CheckDir: speckle.Rcheck Warnings: 0