Package: speckle Version: 1.4.0 Command: chmod a+r speckle -R && F:\biocbuild\bbs-3.19-bioc\R\bin\R.exe CMD build --keep-empty-dirs --no-resave-data speckle StartedAt: 2024-06-26 22:07:49 -0400 (Wed, 26 Jun 2024) EndedAt: 2024-06-26 22:10:05 -0400 (Wed, 26 Jun 2024) EllapsedTime: 135.6 seconds RetCode: 0 Status: OK PackageFile: speckle_1.4.0.tar.gz PackageFileSize: 559.3 KiB