Package: speckle Version: 1.4.0 Command: chmod a+r speckle -R && E:\biocbuild\bbs-3.19-bioc\R\bin\R.exe CMD build --keep-empty-dirs --no-resave-data speckle StartedAt: 2024-10-16 22:07:34 -0400 (Wed, 16 Oct 2024) EndedAt: 2024-10-16 22:09:26 -0400 (Wed, 16 Oct 2024) EllapsedTime: 111.2 seconds RetCode: 0 Status: OK PackageFile: speckle_1.4.0.tar.gz PackageFileSize: 559.3 KiB