Package: spiky Version: 1.10.0 Command: chmod a+r spiky -R && F:\biocbuild\bbs-3.19-bioc\R\bin\R.exe CMD build --keep-empty-dirs --no-resave-data spiky StartedAt: 2024-06-26 22:09:03 -0400 (Wed, 26 Jun 2024) EndedAt: 2024-06-26 22:11:53 -0400 (Wed, 26 Jun 2024) EllapsedTime: 170.4 seconds RetCode: 0 Status: OK PackageFile: spiky_1.10.0.tar.gz PackageFileSize: 14.31 MiB