Package: spillR Version: 1.0.0 Command: rm -rf spillR.buildbin-libdir && mkdir spillR.buildbin-libdir && /Users/biocbuild/BBS/utils/build-universal.sh spillR_1.0.0.tar.gz /Library/Frameworks/R.framework/Resources/bin/R spillR.buildbin-libdir StartedAt: 2024-06-11 13:23:15 -0400 (Tue, 11 Jun 2024) EndedAt: 2024-06-11 13:24:22 -0400 (Tue, 11 Jun 2024) EllapsedTime: 67.0 seconds RetCode: 0 Status: OK PackageFile: spillR_1.0.0.tgz PackageFileSize: 575.5 KiB