Package: spillR Version: 1.0.0 Command: /home/biocbuild/R/R-beta-2024-04-15_r86425/bin/R CMD build --keep-empty-dirs --no-resave-data spillR StartedAt: 2024-05-09 03:50:18 -0000 (Thu, 09 May 2024) EndedAt: 2024-05-09 03:53:32 -0000 (Thu, 09 May 2024) EllapsedTime: 194.2 seconds RetCode: 0 Status: OK PackageFile: spillR_1.0.0.tar.gz PackageFileSize: 346.8 KiB