Package: spillR Version: 1.0.1 Command: /Library/Frameworks/R.framework/Resources/bin/R CMD check --install=check:spillR.install-out.txt --library=/Library/Frameworks/R.framework/Resources/library --no-vignettes --timings spillR_1.0.1.tar.gz StartedAt: 2024-10-17 13:41:38 -0400 (Thu, 17 Oct 2024) EndedAt: 2024-10-17 13:57:30 -0400 (Thu, 17 Oct 2024) EllapsedTime: 952.0 seconds RetCode: 0 Status: OK CheckDir: spillR.Rcheck Warnings: 0