Package: spillR Version: 1.0.1 Command: /home/biocbuild/bbs-3.19-bioc/R/bin/R CMD check --install=check:spillR.install-out.txt --library=/home/biocbuild/bbs-3.19-bioc/R/site-library --timings spillR_1.0.1.tar.gz StartedAt: 2024-10-17 05:28:11 -0400 (Thu, 17 Oct 2024) EndedAt: 2024-10-17 05:36:04 -0400 (Thu, 17 Oct 2024) EllapsedTime: 473.0 seconds RetCode: 0 Status: OK CheckDir: spillR.Rcheck Warnings: 0