Package: spillR Version: 1.0.0 Command: chmod a+r spillR -R && F:\biocbuild\bbs-3.19-bioc\R\bin\R.exe CMD build --keep-empty-dirs --no-resave-data spillR StartedAt: 2024-06-26 22:09:04 -0400 (Wed, 26 Jun 2024) EndedAt: 2024-06-26 22:12:02 -0400 (Wed, 26 Jun 2024) EllapsedTime: 178.1 seconds RetCode: 0 Status: OK PackageFile: spillR_1.0.0.tar.gz PackageFileSize: 296.7 KiB