Package: spkTools Version: 1.60.0 Command: /home/biocbuild/R/R-beta-2024-04-15_r86425/bin/R CMD build --keep-empty-dirs --no-resave-data spkTools StartedAt: 2024-05-09 03:50:24 -0000 (Thu, 09 May 2024) EndedAt: 2024-05-09 03:50:37 -0000 (Thu, 09 May 2024) EllapsedTime: 13.0 seconds RetCode: 0 Status: OK PackageFile: spkTools_1.60.0.tar.gz PackageFileSize: 650.7 KiB