Package: spkTools Version: 1.60.0 Command: /home/biocbuild/R/R-beta-2024-04-15_r86425/bin/R CMD check --install=check:spkTools.install-out.txt --library=/home/biocbuild/R/R-beta-2024-04-15_r86425/site-library --no-vignettes --timings spkTools_1.60.0.tar.gz StartedAt: 2024-05-08 12:16:43 -0000 (Wed, 08 May 2024) EndedAt: 2024-05-08 12:18:14 -0000 (Wed, 08 May 2024) EllapsedTime: 91.1 seconds RetCode: 0 Status: OK CheckDir: spkTools.Rcheck Warnings: 0