Package: splatter Version: 1.28.0 Command: rm -rf splatter.buildbin-libdir && mkdir splatter.buildbin-libdir && F:\biocbuild\bbs-3.19-bioc\R\bin\R.exe CMD INSTALL --build --library=splatter.buildbin-libdir splatter_1.28.0.tar.gz StartedAt: 2024-06-27 08:59:13 -0400 (Thu, 27 Jun 2024) EndedAt: 2024-06-27 09:00:08 -0400 (Thu, 27 Jun 2024) EllapsedTime: 54.9 seconds RetCode: 0 Status: OK PackageFile: splatter_1.28.0.zip PackageFileSize: 3.389 MiB