Package: splatter Version: 1.28.0 Command: F:\biocbuild\bbs-3.19-bioc\R\bin\R.exe CMD check --no-multiarch --install=check:splatter.install-out.txt --library=F:\biocbuild\bbs-3.19-bioc\R\library --no-vignettes --timings splatter_1.28.0.tar.gz StartedAt: 2024-06-27 06:31:32 -0400 (Thu, 27 Jun 2024) EndedAt: 2024-06-27 06:41:54 -0400 (Thu, 27 Jun 2024) EllapsedTime: 622.2 seconds RetCode: 0 Status: OK CheckDir: splatter.Rcheck Warnings: 0