Package: splatter Version: 1.28.0 Command: F:\biocbuild\bbs-3.19-bioc\R\bin\R.exe CMD INSTALL splatter StartedAt: 2024-06-26 16:31:29 -0400 (Wed, 26 Jun 2024) EndedAt: 2024-06-26 16:32:18 -0400 (Wed, 26 Jun 2024) EllapsedTime: 49.5 seconds RetCode: 0 Status: OK