Package: splatter Version: 1.28.0 Command: chmod a+r splatter -R && E:\biocbuild\bbs-3.19-bioc\R\bin\R.exe CMD build --keep-empty-dirs --no-resave-data splatter StartedAt: 2024-10-16 22:08:52 -0400 (Wed, 16 Oct 2024) EndedAt: 2024-10-16 22:13:47 -0400 (Wed, 16 Oct 2024) EllapsedTime: 295.3 seconds RetCode: 0 Status: OK PackageFile: splatter_1.28.0.tar.gz PackageFileSize: 3.577 MiB