Package: splatter Version: 1.28.0 Command: E:\biocbuild\bbs-3.19-bioc\R\bin\R.exe CMD check --no-multiarch --install=check:splatter.install-out.txt --library=E:\biocbuild\bbs-3.19-bioc\R\library --no-vignettes --timings splatter_1.28.0.tar.gz StartedAt: 2024-10-17 06:06:17 -0400 (Thu, 17 Oct 2024) EndedAt: 2024-10-17 06:16:39 -0400 (Thu, 17 Oct 2024) EllapsedTime: 621.7 seconds RetCode: 0 Status: OK CheckDir: splatter.Rcheck Warnings: 0