Package: splatter Version: 1.28.0 Command: E:\biocbuild\bbs-3.19-bioc\R\bin\R.exe CMD INSTALL splatter StartedAt: 2024-10-16 16:58:44 -0400 (Wed, 16 Oct 2024) EndedAt: 2024-10-16 16:59:55 -0400 (Wed, 16 Oct 2024) EllapsedTime: 71.1 seconds RetCode: 0 Status: OK