Package: splots Version: 1.70.0 Maintainer: Wolfgang Huber MaintainerEmail: wolfgang.huber at embl.org git_url: https://git.bioconductor.org/packages/splots git_branch: RELEASE_3_19 git_last_commit: cd99279 git_last_commit_date: 2024-04-30 10:15:55 -0400 (Tue, 30 Apr 2024)