Package: splots Version: 1.70.0 Command: rm -rf splots.buildbin-libdir && mkdir splots.buildbin-libdir && E:\biocbuild\bbs-3.19-bioc\R\bin\R.exe CMD INSTALL --build --library=splots.buildbin-libdir splots_1.70.0.tar.gz StartedAt: 2024-10-17 08:43:15 -0400 (Thu, 17 Oct 2024) EndedAt: 2024-10-17 08:43:19 -0400 (Thu, 17 Oct 2024) EllapsedTime: 4.0 seconds RetCode: 0 Status: OK PackageFile: splots_1.70.0.zip PackageFileSize: 502.9 KiB