Package: spoon Version: 1.0.0 Maintainer: Kinnary Shah MaintainerEmail: kinnaryshahh at gmail.com git_url: https://git.bioconductor.org/packages/spoon git_branch: RELEASE_3_19 git_last_commit: e60b986 git_last_commit_date: 2024-04-30 11:54:31 -0400 (Tue, 30 Apr 2024)