Package: spoon Version: 1.0.0 Command: /Library/Frameworks/R.framework/Resources/bin/R CMD build --keep-empty-dirs --no-resave-data spoon StartedAt: 2024-10-17 10:03:06 -0400 (Thu, 17 Oct 2024) EndedAt: 2024-10-17 10:05:36 -0400 (Thu, 17 Oct 2024) EllapsedTime: 149.7 seconds RetCode: 0 Status: OK PackageFile: spoon_1.0.0.tar.gz PackageFileSize: 813.6 KiB