Package: spoon Version: 1.0.0 Command: /Library/Frameworks/R.framework/Resources/bin/R CMD INSTALL spoon StartedAt: 2024-06-09 15:41:05 -0400 (Sun, 09 Jun 2024) EndedAt: 2024-06-09 15:41:41 -0400 (Sun, 09 Jun 2024) EllapsedTime: 36.1 seconds RetCode: 0 Status: OK