Package: spoon Version: 1.0.0 Command: rm -rf spoon.buildbin-libdir && mkdir spoon.buildbin-libdir && /Users/biocbuild/BBS/utils/build-universal.sh spoon_1.0.0.tar.gz /Library/Frameworks/R.framework/Resources/bin/R spoon.buildbin-libdir StartedAt: 2024-06-10 00:41:56 -0400 (Mon, 10 Jun 2024) EndedAt: 2024-06-10 00:42:31 -0400 (Mon, 10 Jun 2024) EllapsedTime: 34.9 seconds RetCode: 0 Status: OK PackageFile: spoon_1.0.0.tgz PackageFileSize: 577.9 KiB