Package: spoon Version: 1.0.0 Command: /home/biocbuild/bbs-3.19-bioc/R/bin/R CMD build --keep-empty-dirs --no-resave-data spoon StartedAt: 2024-10-16 21:00:25 -0400 (Wed, 16 Oct 2024) EndedAt: 2024-10-16 21:02:26 -0400 (Wed, 16 Oct 2024) EllapsedTime: 121.3 seconds RetCode: 0 Status: OK PackageFile: spoon_1.0.0.tar.gz PackageFileSize: 813.7 KiB