Package: spoon Version: 1.0.0 Command: rm -rf spoon.buildbin-libdir && mkdir spoon.buildbin-libdir && E:\biocbuild\bbs-3.19-bioc\R\bin\R.exe CMD INSTALL --build --library=spoon.buildbin-libdir spoon_1.0.0.tar.gz StartedAt: 2024-10-17 08:43:25 -0400 (Thu, 17 Oct 2024) EndedAt: 2024-10-17 08:43:55 -0400 (Thu, 17 Oct 2024) EllapsedTime: 29.5 seconds RetCode: 0 Status: OK PackageFile: spoon_1.0.0.zip PackageFileSize: 581.3 KiB