Package: spoon Version: 1.0.0 Command: E:\biocbuild\bbs-3.19-bioc\R\bin\R.exe CMD INSTALL spoon StartedAt: 2024-10-16 16:29:20 -0400 (Wed, 16 Oct 2024) EndedAt: 2024-10-16 16:29:47 -0400 (Wed, 16 Oct 2024) EllapsedTime: 26.7 seconds RetCode: 0 Status: OK