Package: srnadiff Version: 1.24.0 Command: F:\biocbuild\bbs-3.19-bioc\R\bin\R.exe CMD check --no-multiarch --install=check:srnadiff.install-out.txt --library=F:\biocbuild\bbs-3.19-bioc\R\library --no-vignettes --timings srnadiff_1.24.0.tar.gz StartedAt: 2024-06-27 06:37:37 -0400 (Thu, 27 Jun 2024) EndedAt: 2024-06-27 06:59:06 -0400 (Thu, 27 Jun 2024) EllapsedTime: 1289.2 seconds RetCode: 0 Status: WARNINGS CheckDir: srnadiff.Rcheck Warnings: 2