Package: ssPATHS Version: 1.18.0 Maintainer: Natalie R. Davidson MaintainerEmail: natalie.davidson at inf.ethz.ch git_url: https://git.bioconductor.org/packages/ssPATHS git_branch: RELEASE_3_19 git_last_commit: 2d4c8ce git_last_commit_date: 2024-04-30 11:18:16 -0400 (Tue, 30 Apr 2024)