Package: ssPATHS Version: 1.18.0 Command: rm -rf ssPATHS.buildbin-libdir && mkdir ssPATHS.buildbin-libdir && /Users/biocbuild/BBS/utils/build-universal.sh ssPATHS_1.18.0.tar.gz /Library/Frameworks/R.framework/Resources/bin/R ssPATHS.buildbin-libdir StartedAt: 2024-10-17 17:18:05 -0400 (Thu, 17 Oct 2024) EndedAt: 2024-10-17 17:19:04 -0400 (Thu, 17 Oct 2024) EllapsedTime: 59.7 seconds RetCode: 0 Status: OK PackageFile: ssPATHS_1.18.0.tgz PackageFileSize: 3.7 MiB