Package: ssize Version: 1.78.0 Command: /Library/Frameworks/R.framework/Resources/bin/R CMD build --keep-empty-dirs --no-resave-data ssize StartedAt: 2024-10-16 23:44:35 -0400 (Wed, 16 Oct 2024) EndedAt: 2024-10-16 23:44:56 -0400 (Wed, 16 Oct 2024) EllapsedTime: 21.9 seconds RetCode: 0 Status: OK PackageFile: ssize_1.78.0.tar.gz PackageFileSize: 545.3 KiB