Package: ssize Version: 1.78.0 Command: rm -rf ssize.buildbin-libdir && mkdir ssize.buildbin-libdir && E:\biocbuild\bbs-3.19-bioc\R\bin\R.exe CMD INSTALL --build --library=ssize.buildbin-libdir ssize_1.78.0.tar.gz StartedAt: 2024-10-17 08:43:55 -0400 (Thu, 17 Oct 2024) EndedAt: 2024-10-17 08:44:04 -0400 (Thu, 17 Oct 2024) EllapsedTime: 9.2 seconds RetCode: 0 Status: OK PackageFile: ssize_1.78.0.zip PackageFileSize: 364.4 KiB