Package: ssviz Version: 1.38.0 Command: rm -rf ssviz.buildbin-libdir && mkdir ssviz.buildbin-libdir && /Users/biocbuild/BBS/utils/build-universal.sh ssviz_1.38.0.tar.gz /Library/Frameworks/R.framework/Resources/bin/R ssviz.buildbin-libdir StartedAt: 2024-10-15 20:30:11 -0400 (Tue, 15 Oct 2024) EndedAt: 2024-10-15 20:30:32 -0400 (Tue, 15 Oct 2024) EllapsedTime: 21.6 seconds RetCode: 0 Status: OK PackageFile: ssviz_1.38.0.tgz PackageFileSize: 1.114 MiB