Package: ssviz Version: 1.38.0 Command: /Library/Frameworks/R.framework/Resources/bin/R CMD check --install=check:ssviz.install-out.txt --library=/Library/Frameworks/R.framework/Resources/library --no-vignettes --timings ssviz_1.38.0.tar.gz StartedAt: 2024-10-18 14:04:22 -0400 (Fri, 18 Oct 2024) EndedAt: 2024-10-18 14:06:54 -0400 (Fri, 18 Oct 2024) EllapsedTime: 152.3 seconds RetCode: 0 Status: OK CheckDir: ssviz.Rcheck Warnings: 0