Package: ssviz Version: 1.38.0 Command: /Library/Frameworks/R.framework/Resources/bin/R CMD INSTALL ssviz StartedAt: 2024-10-16 16:48:01 -0400 (Wed, 16 Oct 2024) EndedAt: 2024-10-16 16:48:19 -0400 (Wed, 16 Oct 2024) EllapsedTime: 17.5 seconds RetCode: 0 Status: OK