Package: ssviz Version: 1.38.0 Command: /Library/Frameworks/R.framework/Resources/bin/R CMD check --install=check:ssviz.install-out.txt --library=/Library/Frameworks/R.framework/Resources/library --no-vignettes --timings ssviz_1.38.0.tar.gz StartedAt: 2024-06-09 23:22:43 -0400 (Sun, 09 Jun 2024) EndedAt: 2024-06-09 23:25:03 -0400 (Sun, 09 Jun 2024) EllapsedTime: 140.1 seconds RetCode: 0 Status: OK CheckDir: ssviz.Rcheck Warnings: 0