Package: ssviz Version: 1.38.0 Command: /Library/Frameworks/R.framework/Resources/bin/R CMD build --keep-empty-dirs --no-resave-data ssviz StartedAt: 2024-10-16 23:45:52 -0400 (Wed, 16 Oct 2024) EndedAt: 2024-10-16 23:46:58 -0400 (Wed, 16 Oct 2024) EllapsedTime: 65.7 seconds RetCode: 0 Status: OK PackageFile: ssviz_1.38.0.tar.gz PackageFileSize: 1.153 MiB