Package: ssviz Version: 1.38.0 Command: /home/biocbuild/bbs-3.19-bioc/R/bin/R CMD build --keep-empty-dirs --no-resave-data ssviz StartedAt: 2024-10-16 21:02:54 -0400 (Wed, 16 Oct 2024) EndedAt: 2024-10-16 21:03:16 -0400 (Wed, 16 Oct 2024) EllapsedTime: 22.0 seconds RetCode: 0 Status: OK PackageFile: ssviz_1.38.0.tar.gz PackageFileSize: 1010 KiB